BEGIN:VCALENDAR
PRODID:-//eluceo/ical//2.0/EN
VERSION:2.0
CALSCALE:GREGORIAN
BEGIN:VEVENT
UID:be8179bf558b86b1aba0be904cd73098
DTSTAMP:20260423T091902Z
SUMMARY:Plauderlunch
DESCRIPTION:
URL:https://rotary-schwyz-mythen.ch/sv/agenda/show/28626
DTSTART;TZID=Europe/Zurich:20130131T121500
DTEND;TZID=Europe/Zurich:20130131T121500
LOCATION:Hotel Wysses Rössli Schyz
CATEGORIES:Rotary
END:VEVENT
BEGIN:VTIMEZONE
TZID:Europe/Zurich
BEGIN:STANDARD
DTSTART:20130131T121500
TZNAME:CET
TZOFFSETTO:+0100
TZOFFSETFROM:+0100
END:STANDARD
END:VTIMEZONE
END:VCALENDAR
