BEGIN:VCALENDAR
PRODID:-//eluceo/ical//2.0/EN
VERSION:2.0
CALSCALE:GREGORIAN
BEGIN:VEVENT
UID:bbc8a5b5d8f81758bdb137ab28214ffa
DTSTAMP:20260421T165430Z
SUMMARY:Partneranlass: Mani Matter 1936–1972
DESCRIPTION:17.45 Uhr\nTreffpunkt Forum der Schweizer Geschichte\n18.00 Uhr
 \nFührung mit Frau Amuat\, Museumspädagogin\n19.15 Uhr\nApéro\, Hotel W
 ysses Rössli Schwyz\n19.45 Uhr\nNachtessen im Hotel Wysses Rössli Schwyz
 \n\nForum Schweizer Geschichte Schwyz\n\nAnmeldung bis Dienstag\, 2. Augus
 t 2012 an:\nRiedweg GmbH Kopiercenter\nAdelin Riedweg\, Postfach 456\, 643
 1 Schwyz\nTel. (G) 041 817 70 70\, (P) 041 817 70 75\nFax 041 817 70 71\na
 dy@riedweg-kopiercenter.ch\n\nFür Online-Anmeldung bitte einloggen.\nTala
 re: Führung mit Frau Amuat\, Museumspädagogin
URL:https://rotary-schwyz-mythen.ch/sv/agenda/show/24711
DTSTART;TZID=Europe/Zurich:20120809T174500
DTEND;TZID=Europe/Zurich:20120809T174500
LOCATION:Forum der Schweizer Geschichte\, Hofmatt\, Schwyz 
CATEGORIES:Rotary
END:VEVENT
BEGIN:VTIMEZONE
TZID:Europe/Zurich
BEGIN:DAYLIGHT
DTSTART:20120809T174500
TZNAME:CEST
TZOFFSETTO:+0200
TZOFFSETFROM:+0200
END:DAYLIGHT
END:VTIMEZONE
END:VCALENDAR
