BEGIN:VCALENDAR
PRODID:-//eluceo/ical//2.0/EN
VERSION:2.0
CALSCALE:GREGORIAN
BEGIN:VEVENT
UID:c8397de8ed319f275ce85c6070bcb5ca
DTSTAMP:20260423T131112Z
SUMMARY:Diskussion Clubdossier
DESCRIPTION:Talare: Präsident Hanspeter Schenk
URL:https://rotary-schwyz-mythen.ch/sv/agenda/show/23377
DTSTART;TZID=Europe/Zurich:20120419T121500
DTEND;TZID=Europe/Zurich:20120419T141500
LOCATION:Hotel Wysses Rössli\, Schwyz
CATEGORIES:Rotary
END:VEVENT
BEGIN:VTIMEZONE
TZID:Europe/Zurich
BEGIN:DAYLIGHT
DTSTART:20120419T121500
TZNAME:CEST
TZOFFSETTO:+0200
TZOFFSETFROM:+0200
END:DAYLIGHT
END:VTIMEZONE
END:VCALENDAR
