BEGIN:VCALENDAR
PRODID:-//eluceo/ical//2.0/EN
VERSION:2.0
CALSCALE:GREGORIAN
BEGIN:VEVENT
UID:70c6d052aeecff85def3b2e21321c856
DTSTAMP:20260421T165615Z
SUMMARY:Plauderlunch
DESCRIPTION:
URL:https://rotary-schwyz-mythen.ch/sv/agenda/show/23374
DTSTART;TZID=Europe/Zurich:20120510T121500
DTEND;TZID=Europe/Zurich:20120510T141500
LOCATION:Seehotel Waldstätterhof\, Brunnen
CATEGORIES:Rotary
END:VEVENT
BEGIN:VTIMEZONE
TZID:Europe/Zurich
BEGIN:DAYLIGHT
DTSTART:20120510T121500
TZNAME:CEST
TZOFFSETTO:+0200
TZOFFSETFROM:+0200
END:DAYLIGHT
END:VTIMEZONE
END:VCALENDAR
