BEGIN:VCALENDAR
PRODID:-//eluceo/ical//2.0/EN
VERSION:2.0
CALSCALE:GREGORIAN
BEGIN:VEVENT
UID:1e5b521755c2e61cf856899d901b546b
DTSTAMP:20260421T165910Z
SUMMARY:Partneranlass: Besuch Tierspital Zürich & Abendessen
DESCRIPTION:18:15 Uhr Eingang Tierspital (Winterthurerstrasse 260)\n18:30 U
 hr Führung durch das Tierspital mit Prof. Dr. Jean-Michel Hatt\n20:00 Uhr
  Abendessen im Restaurant Neubühl (Winterthurerstrasse 175)\nTalare: Füh
 rung mit Prof. Dr. Jean-Michel Hatt
URL:https://rotary-schwyz-mythen.ch/sv/agenda/show/21857
DTSTART;TZID=Europe/Zurich:20120329T181500
DTEND;TZID=Europe/Zurich:20120329T201500
LOCATION:Tierspital Zürich\, Winterthurerstr. 260 Zürich – Restaurant N
 eubühl\, Winterthurerstr. 175\, Zürich
CATEGORIES:Rotary
END:VEVENT
BEGIN:VTIMEZONE
TZID:Europe/Zurich
BEGIN:DAYLIGHT
DTSTART:20120329T181500
TZNAME:CEST
TZOFFSETTO:+0200
TZOFFSETFROM:+0200
END:DAYLIGHT
END:VTIMEZONE
END:VCALENDAR
