BEGIN:VCALENDAR
PRODID:-//eluceo/ical//2.0/EN
VERSION:2.0
CALSCALE:GREGORIAN
BEGIN:VEVENT
UID:ae15e43fe0af00cb8ff13811c78618c4
DTSTAMP:20260419T170503Z
SUMMARY:Concerto benefico per PolioPlus
DESCRIPTION:Sito web: https://www.obrassoconcerts.ch/programm/sinfonie-in-b
 ildern
URL:https://polaris.rotary.ch/it/agenda/show/198089
DTSTART;TZID=Europe/Zurich:20251026T170000
DTEND;TZID=Europe/Zurich:20251026T230000
LOCATION:KKL Luzern
CATEGORIES:Rotary
END:VEVENT
BEGIN:VTIMEZONE
TZID:Europe/Zurich
BEGIN:STANDARD
DTSTART:20251026T170000
TZNAME:CET
TZOFFSETTO:+0100
TZOFFSETFROM:+0100
END:STANDARD
END:VTIMEZONE
END:VCALENDAR
