BEGIN:VCALENDAR
PRODID:-//eluceo/ical//2.0/EN
VERSION:2.0
CALSCALE:GREGORIAN
BEGIN:VEVENT
UID:8a86edd43424baaacd64d255a23ba591
DTSTAMP:20260419T165854Z
SUMMARY:Cyber Security aus Sicht der Politik
DESCRIPTION:Vefsíða: http://www.waldstaetterhof.ch/\nFyrirlesari(ar): St
 änderat Josef Dittli\, UR
URL:https://rotary-schwyz-mythen.ch/is/agenda/show/84729
DTSTART;TZID=Europe/Zurich:20180517T121500
DTEND;TZID=Europe/Zurich:20180517T121500
LOCATION:Hotel Waldstätterhof\, Brunnen
CATEGORIES:Rotary
END:VEVENT
BEGIN:VTIMEZONE
TZID:Europe/Zurich
BEGIN:DAYLIGHT
DTSTART:20180517T121500
TZNAME:CEST
TZOFFSETTO:+0200
TZOFFSETFROM:+0200
END:DAYLIGHT
END:VTIMEZONE
END:VCALENDAR
