BEGIN:VCALENDAR
PRODID:-//eluceo/ical//2.0/EN
VERSION:2.0
CALSCALE:GREGORIAN
BEGIN:VEVENT
UID:aba059f44ee74bd4bf7949933ed1deb5
DTSTAMP:20260421T085501Z
SUMMARY:Es war einmal die Sicherheit. Die Selbstdemontage der wehrhaften Sc
 hweiz.
DESCRIPTION:Vefsíða: http://www.waldstaetterhof.ch/\nFyrirlesari(ar): Dr.
  Philipp Gut\, stellvertretender Chefredaktor Weltwoche
URL:https://rotary-schwyz-mythen.ch/is/agenda/show/84727
DTSTART;TZID=Europe/Zurich:20180503T121500
DTEND;TZID=Europe/Zurich:20180503T121500
LOCATION:Hotel Waldstätterhof\, Brunnen
CATEGORIES:Rotary
END:VEVENT
BEGIN:VTIMEZONE
TZID:Europe/Zurich
BEGIN:DAYLIGHT
DTSTART:20180503T121500
TZNAME:CEST
TZOFFSETTO:+0200
TZOFFSETFROM:+0200
END:DAYLIGHT
END:VTIMEZONE
END:VCALENDAR
