BEGIN:VCALENDAR
PRODID:-//eluceo/ical//2.0/EN
VERSION:2.0
CALSCALE:GREGORIAN
BEGIN:VEVENT
UID:9cd1392a8b8d4070d62c702bc1aba961
DTSTAMP:20260419T132817Z
SUMMARY:Plauderlunch
DESCRIPTION:Vefsíða: http://www.waldstaetterhof.ch/
URL:https://rotary-schwyz-mythen.ch/is/agenda/show/84647
DTSTART;TZID=Europe/Zurich:20180419T121500
DTEND;TZID=Europe/Zurich:20180419T121500
LOCATION:Hotel Waldstätterhof\, Brunnen
CATEGORIES:Rotary
END:VEVENT
BEGIN:VTIMEZONE
TZID:Europe/Zurich
BEGIN:DAYLIGHT
DTSTART:20180419T121500
TZNAME:CEST
TZOFFSETTO:+0200
TZOFFSETFROM:+0200
END:DAYLIGHT
END:VTIMEZONE
END:VCALENDAR
