BEGIN:VCALENDAR
PRODID:-//eluceo/ical//2.0/EN
VERSION:2.0
CALSCALE:GREGORIAN
BEGIN:VEVENT
UID:8c152d20614c5ad25e6b1a9b05d44d0c
DTSTAMP:20260421T091007Z
SUMMARY:Sicherheit aus Sicht eines Mitgliedes der Sicherheitskommission des
  Nationalrates
DESCRIPTION:Vefsíða: http://www.waldstaetterhof.ch/\nFyrirlesari(ar): Rot
 . NR Alois Gmür
URL:https://rotary-schwyz-mythen.ch/is/agenda/show/84645
DTSTART;TZID=Europe/Zurich:20180405T121500
DTEND;TZID=Europe/Zurich:20180405T121500
LOCATION:Hotel Waldstätterhof\, Brunnen
CATEGORIES:Rotary
END:VEVENT
BEGIN:VTIMEZONE
TZID:Europe/Zurich
BEGIN:DAYLIGHT
DTSTART:20180405T121500
TZNAME:CEST
TZOFFSETTO:+0200
TZOFFSETFROM:+0200
END:DAYLIGHT
END:VTIMEZONE
END:VCALENDAR
