BEGIN:VCALENDAR
PRODID:-//eluceo/ical//2.0/EN
VERSION:2.0
CALSCALE:GREGORIAN
BEGIN:VEVENT
UID:1027ab83a0ee69323bf6780e936980e3
DTSTAMP:20260425T103342Z
SUMMARY:Governor-Besuch
DESCRIPTION:Achtung\, neue Lokalität: Da das Wysse Rössli bis zum 4. Janu
 ar 2018 geschlossen ist\, mussten wir kurzfristig das Lokal wechseln. Der 
 Besuch des Governors findet nun im Waldstätterhof in Brunnen statt. Danke
  für das Verständnis.\nVefsíða: http://www.waldstaetterhof.ch/\nFyrirl
 esari(ar): DG Daniel K. Keuerleber-Burk
URL:https://rotary-schwyz-mythen.ch/is/agenda/show/80988
DTSTART;TZID=Europe/Zurich:20180104T121500
DTEND;TZID=Europe/Zurich:20180104T121500
LOCATION:Hotel Waldstätterhof\, Brunnen
CATEGORIES:Rotary
END:VEVENT
BEGIN:VTIMEZONE
TZID:Europe/Zurich
BEGIN:STANDARD
DTSTART:20180104T121500
TZNAME:CET
TZOFFSETTO:+0100
TZOFFSETFROM:+0100
END:STANDARD
END:VTIMEZONE
END:VCALENDAR
