BEGIN:VCALENDAR
PRODID:-//eluceo/ical//2.0/EN
VERSION:2.0
CALSCALE:GREGORIAN
BEGIN:VEVENT
UID:20839c8856dbf1ca5ec6093b4e8a2b64
DTSTAMP:20260423T094319Z
SUMMARY:Sicherheit aus politischer Sicht
DESCRIPTION:Fyrirlesari(ar): Regierungsrat André Rüegsegger\, Vorsteher S
 icherheitsdepartement
URL:https://rotary-schwyz-mythen.ch/is/agenda/show/75045
DTSTART;TZID=Europe/Zurich:20170810T121500
DTEND;TZID=Europe/Zurich:20170810T121500
LOCATION:Seehotel Waldstätterhof Brunnen
CATEGORIES:Rotary
END:VEVENT
BEGIN:VTIMEZONE
TZID:Europe/Zurich
BEGIN:DAYLIGHT
DTSTART:20170810T121500
TZNAME:CEST
TZOFFSETTO:+0200
TZOFFSETFROM:+0200
END:DAYLIGHT
END:VTIMEZONE
END:VCALENDAR
