BEGIN:VCALENDAR
PRODID:-//eluceo/ical//2.0/EN
VERSION:2.0
CALSCALE:GREGORIAN
BEGIN:VEVENT
UID:03501203241613e2b3e3577821519f11
DTSTAMP:20260423T091558Z
SUMMARY:Plauderlunch
DESCRIPTION:
URL:https://rotary-schwyz-mythen.ch/is/agenda/show/75040
DTSTART;TZID=Europe/Zurich:20170720T121500
DTEND;TZID=Europe/Zurich:20170720T121500
LOCATION:Seehotel Waldstätterhof Brunnen
CATEGORIES:Rotary
END:VEVENT
BEGIN:VTIMEZONE
TZID:Europe/Zurich
BEGIN:DAYLIGHT
DTSTART:20170720T121500
TZNAME:CEST
TZOFFSETTO:+0200
TZOFFSETFROM:+0200
END:DAYLIGHT
END:VTIMEZONE
END:VCALENDAR
