BEGIN:VCALENDAR
PRODID:-//eluceo/ical//2.0/EN
VERSION:2.0
CALSCALE:GREGORIAN
BEGIN:VEVENT
UID:ff1f6ba7c8963dbe2d4e4596b97c8f18
DTSTAMP:20260421T111338Z
SUMMARY:Partneranlass - Besuch Feuerring GmbH - Atelier Andreas Reichlin
DESCRIPTION:\n\n\nDatum:\nDonnerstag\, 1. Juni 2017\n\n\nZeit:\n\n17.25 Uh
 r\nTreffpunkt bei der Feuerring GmbH\, Tieftalweg 3\, 6405 Immensee\n17:30
  Uhr\nPräsentation und Vorführung des Feuerrings durch Andreas Reichlin
  und Beat Hoyer\, www.feuerring.ch\n18.45 Uhr ca.\nGemeinsames Abendesse
 n\n\n\n\nOrte:\n\nAndreas Reichlin\nBildhauer\nTieftalweg 3\nCH-6405 Immen
 see SZ\nwww.andreasreichlin.com\n\nRestaurant Tells Hohle Gasse\nArtherst
 rasse 38\, 6405 Immensee\nwww.tellshohlegasse.ch\n\n\n\nAnmeldung:  \nbis
  Sonntag\, 28. Mai 2017 corinna.strickler@sparkasse.ch\nFax 041 819 02 5
 1 oder\nCorinna Strickler\, Sparkasse\, Postfach\, 6431 Schwyz\n\n\n\nVefs
 íða: http://www.feuerring.ch
URL:https://rotary-schwyz-mythen.ch/is/agenda/show/73321
DTSTART;TZID=Europe/Zurich:20170601T172500
DTEND;TZID=Europe/Zurich:20170601T220000
LOCATION:Atelier Feuerring GmbH\, Tieftalweg 3\, 6405 Immensee
CATEGORIES:Rotary
END:VEVENT
BEGIN:VTIMEZONE
TZID:Europe/Zurich
BEGIN:DAYLIGHT
DTSTART:20170601T172500
TZNAME:CEST
TZOFFSETTO:+0200
TZOFFSETFROM:+0200
END:DAYLIGHT
END:VTIMEZONE
END:VCALENDAR
