BEGIN:VCALENDAR
PRODID:-//eluceo/ical//2.0/EN
VERSION:2.0
CALSCALE:GREGORIAN
BEGIN:VEVENT
UID:11c024d52797627dbafc801ca92aec79
DTSTAMP:20260423T160516Z
SUMMARY:Vortrag - Herr Peter Schmid - ABZ gemeinnütziger Wohnbau "neue Woh
 nformen"
DESCRIPTION:
URL:https://rotary-schwyz-mythen.ch/is/agenda/show/73319
DTSTART;TZID=Europe/Zurich:20170518T121500
DTEND;TZID=Europe/Zurich:20170518T121500
LOCATION:Seehotel Waldstätterhof Brunnen
CATEGORIES:Rotary
END:VEVENT
BEGIN:VTIMEZONE
TZID:Europe/Zurich
BEGIN:DAYLIGHT
DTSTART:20170518T121500
TZNAME:CEST
TZOFFSETTO:+0200
TZOFFSETFROM:+0200
END:DAYLIGHT
END:VTIMEZONE
END:VCALENDAR
