BEGIN:VCALENDAR
PRODID:-//eluceo/ical//2.0/EN
VERSION:2.0
CALSCALE:GREGORIAN
BEGIN:VEVENT
UID:696b66115fa909bc3945e33dfb703e8f
DTSTAMP:20260423T130854Z
SUMMARY:Plauderlunch
DESCRIPTION:Vefsíða: http://www.wrsz.ch
URL:https://rotary-schwyz-mythen.ch/is/agenda/show/71926
DTSTART;TZID=Europe/Zurich:20170316T121500
DTEND;TZID=Europe/Zurich:20170316T121500
LOCATION:Wysses Rössli\, Schwyz
CATEGORIES:Rotary
END:VEVENT
BEGIN:VTIMEZONE
TZID:Europe/Zurich
BEGIN:STANDARD
DTSTART:20170316T121500
TZNAME:CET
TZOFFSETTO:+0100
TZOFFSETFROM:+0100
END:STANDARD
END:VTIMEZONE
END:VCALENDAR
