BEGIN:VCALENDAR
PRODID:-//eluceo/ical//2.0/EN
VERSION:2.0
CALSCALE:GREGORIAN
BEGIN:VEVENT
UID:c61438782e70d28d3e6c75ab268da726
DTSTAMP:20260421T105721Z
SUMMARY:Kein Meeting
DESCRIPTION:
URL:https://rotary-schwyz-mythen.ch/is/agenda/show/68090
DTSTART;TZID=Europe/Zurich:20161229T000000
DTEND;TZID=Europe/Zurich:20161229T000000
LOCATION:-
CATEGORIES:Rotary
END:VEVENT
BEGIN:VTIMEZONE
TZID:Europe/Zurich
BEGIN:STANDARD
DTSTART:20161229T000000
TZNAME:CET
TZOFFSETTO:+0100
TZOFFSETFROM:+0100
END:STANDARD
END:VTIMEZONE
END:VCALENDAR
