BEGIN:VCALENDAR
PRODID:-//eluceo/ical//2.0/EN
VERSION:2.0
CALSCALE:GREGORIAN
BEGIN:VEVENT
UID:ccb0bb63f4d9f1b89d4d27f13bc55dae
DTSTAMP:20260421T093422Z
SUMMARY:Plauderlunch
DESCRIPTION:Vefsíða: http://www.wrsz.ch
URL:https://rotary-schwyz-mythen.ch/is/agenda/show/68085
DTSTART;TZID=Europe/Zurich:20161124T121500
DTEND;TZID=Europe/Zurich:20161124T121500
LOCATION:Wysses Rössli\, Schwyz
CATEGORIES:Rotary
END:VEVENT
BEGIN:VTIMEZONE
TZID:Europe/Zurich
BEGIN:STANDARD
DTSTART:20161124T121500
TZNAME:CET
TZOFFSETTO:+0100
TZOFFSETFROM:+0100
END:STANDARD
END:VTIMEZONE
END:VCALENDAR
