BEGIN:VCALENDAR
PRODID:-//eluceo/ical//2.0/EN
VERSION:2.0
CALSCALE:GREGORIAN
BEGIN:VEVENT
UID:ce9ef0e2ec7deb6085abe3d2f5096b7b
DTSTAMP:20260421T084935Z
SUMMARY:Vortrag – Neue Banknotenserie
DESCRIPTION:Fyrirlesari(ar): Dr. Walter Naef\, Schweiz. Nationalbank\, Vert
 retung Zentralschweiz
URL:https://rotary-schwyz-mythen.ch/is/agenda/show/66273
DTSTART;TZID=Europe/Zurich:20161020T121500
DTEND;TZID=Europe/Zurich:20161020T121500
LOCATION:Wysses Rössli\, 6430 Schwyz
CATEGORIES:Rotary
END:VEVENT
BEGIN:VTIMEZONE
TZID:Europe/Zurich
BEGIN:DAYLIGHT
DTSTART:20161020T121500
TZNAME:CEST
TZOFFSETTO:+0200
TZOFFSETFROM:+0200
END:DAYLIGHT
END:VTIMEZONE
END:VCALENDAR
