BEGIN:VCALENDAR
PRODID:-//eluceo/ical//2.0/EN
VERSION:2.0
CALSCALE:GREGORIAN
BEGIN:VEVENT
UID:42e709c738c269b4dcbcc18785d956d6
DTSTAMP:20260419T130159Z
SUMMARY:Schweizer Rotary Tag
DESCRIPTION:Rotary stellt sich der Öffentlichkeit vor!\n\n\nAm 10. Septemb
 er 2016 wird Rotary in der ganzen Schweiz präsent sein. Die CH-Distrikts
  haben das Thema «Mine-ex» gewählt.\n\nUnser Club hat sich entschieden\
 , mit dem RC Schwyz und RC Küssnacht-Rigi-Meggen einen gemeinsamen Auftri
 tt im Mythen Center Schwyz zu gestalten. Wir bekommen dort einen Standplat
 z kostenlos zur Verfügung gestellt.\n\nWir präsentieren die Mine-ex-Akti
 on und den Spendensammelaufruf.\n\nUns ist es wichtig\, dass jeder Club au
 f einem Poster seine eigenen Aktivitäten des Gemeindienstes darstellt. Ro
 t. Thomas Smolinski gestaltet unseren Auftritt mit den vergangenen Gemeind
 ienst-Aktionen.\n\nDamit der Stand lebt und wir auf unser Anliegen Aufmerk
 samkeit ziehen\, ist Deine Mithilfe gefragt. Wer hat Lust und Zeit am Stan
 d für 3.5 Stunden aktiv mit dabei zu sein? Mich freut es\, wenn auch Du m
 it dabei bist!\n\nPräsident M. Ehrler
URL:https://rotary-schwyz-mythen.ch/is/agenda/show/66266
DTSTART;TZID=Europe/Zurich:20160910T000000
DTEND;TZID=Europe/Zurich:20160910T000000
LOCATION:Mythen-Center\, 6438 Ibach
CATEGORIES:Rotary
END:VEVENT
BEGIN:VTIMEZONE
TZID:Europe/Zurich
BEGIN:DAYLIGHT
DTSTART:20160910T000000
TZNAME:CEST
TZOFFSETTO:+0200
TZOFFSETFROM:+0200
END:DAYLIGHT
END:VTIMEZONE
END:VCALENDAR
