BEGIN:VCALENDAR
PRODID:-//eluceo/ical//2.0/EN
VERSION:2.0
CALSCALE:GREGORIAN
BEGIN:VEVENT
UID:4514f36fc9bb5731053307ba9c0ccbc8
DTSTAMP:20260419T125607Z
SUMMARY:Partneranlass – Geführter Rundgang ARA Schwyz - Abwasserverband 
 Schwyz
DESCRIPTION:Führung ARA Schwyz - Abwasserverband Schwyz\n\n17.30 Treffpunk
 t Seewernstrasse 221\, 6423 Seewen\n17.35 Geführter Rundgang ARA Schwyz 
 www.ara-schwyz.ch\n19.30 ca. Abendessen im Weissen Rössli\, Bahnhofstr. 8
 \, 6440 Brunnen www.weisses-roessli-brunnen.ch\nVefsíða: http://www.ara-
 schwyz.ch
URL:https://rotary-schwyz-mythen.ch/is/agenda/show/66265
DTSTART;TZID=Europe/Zurich:20160908T173000
DTEND;TZID=Europe/Zurich:20160908T173000
LOCATION:Seewernstr. 221\, 6423 Seewen / Weisses Rössli\, Brunnen
CATEGORIES:Rotary
END:VEVENT
BEGIN:VTIMEZONE
TZID:Europe/Zurich
BEGIN:DAYLIGHT
DTSTART:20160908T173000
TZNAME:CEST
TZOFFSETTO:+0200
TZOFFSETFROM:+0200
END:DAYLIGHT
END:VTIMEZONE
END:VCALENDAR
