BEGIN:VCALENDAR
PRODID:-//eluceo/ical//2.0/EN
VERSION:2.0
CALSCALE:GREGORIAN
BEGIN:VEVENT
UID:8eb11843a042e7f4a3a37ceca2d72dc5
DTSTAMP:20260423T130712Z
SUMMARY:Vortrag – Was der Imker von den Bienen lernt
DESCRIPTION:Fyrirlesari(ar): Josef Werder\, Präsident Imkerverein Küssnac
 ht und Umgebung
URL:https://rotary-schwyz-mythen.ch/is/agenda/show/64546
DTSTART;TZID=Europe/Zurich:20160901T121500
DTEND;TZID=Europe/Zurich:20160901T121500
LOCATION:Seehotel Waldstätterhof Brunnen
CATEGORIES:Rotary
END:VEVENT
BEGIN:VTIMEZONE
TZID:Europe/Zurich
BEGIN:DAYLIGHT
DTSTART:20160901T121500
TZNAME:CEST
TZOFFSETTO:+0200
TZOFFSETFROM:+0200
END:DAYLIGHT
END:VTIMEZONE
END:VCALENDAR
