BEGIN:VCALENDAR
PRODID:-//eluceo/ical//2.0/EN
VERSION:2.0
CALSCALE:GREGORIAN
BEGIN:VEVENT
UID:99cfa697175d790243e2aa67640bb629
DTSTAMP:20260423T160343Z
SUMMARY:Plauderlunch
DESCRIPTION:Vefsíða: http://H
URL:https://rotary-schwyz-mythen.ch/is/agenda/show/63211
DTSTART;TZID=Europe/Zurich:20160825T121500
DTEND;TZID=Europe/Zurich:20160825T133000
LOCATION:Seehotel Waldstätterhof Brunnen
CATEGORIES:Rotary
END:VEVENT
BEGIN:VTIMEZONE
TZID:Europe/Zurich
BEGIN:DAYLIGHT
DTSTART:20160825T121500
TZNAME:CEST
TZOFFSETTO:+0200
TZOFFSETFROM:+0200
END:DAYLIGHT
END:VTIMEZONE
END:VCALENDAR
