BEGIN:VCALENDAR
PRODID:-//eluceo/ical//2.0/EN
VERSION:2.0
CALSCALE:GREGORIAN
BEGIN:VEVENT
UID:c6a16d7a8b227aa9d4539b4916aa7cf3
DTSTAMP:20260419T134727Z
SUMMARY:Plauderlunch
DESCRIPTION:Vefsíða: http://www.waldstaetterhof.ch/
URL:https://rotary-schwyz-mythen.ch/is/agenda/show/63210
DTSTART;TZID=Europe/Zurich:20160818T121500
DTEND;TZID=Europe/Zurich:20160818T133000
LOCATION:Seehotel Waldstätterhof Brunnen
CATEGORIES:Rotary
END:VEVENT
BEGIN:VTIMEZONE
TZID:Europe/Zurich
BEGIN:DAYLIGHT
DTSTART:20160818T121500
TZNAME:CEST
TZOFFSETTO:+0200
TZOFFSETFROM:+0200
END:DAYLIGHT
END:VTIMEZONE
END:VCALENDAR
