BEGIN:VCALENDAR
PRODID:-//eluceo/ical//2.0/EN
VERSION:2.0
CALSCALE:GREGORIAN
BEGIN:VEVENT
UID:f7c6290cdeee9c5e2c24dc07ebfaa3e8
DTSTAMP:20260421T084409Z
SUMMARY:Vortrag – Ortsbildschutz und Denkmalpflege
DESCRIPTION:Vefsíða: http://www.waldstaetterhof.ch/\nFyrirlesari(ar): Dr.
  phil. Thomas Brunner\, Denkmalpfleger Kanton Schwyz
URL:https://rotary-schwyz-mythen.ch/is/agenda/show/63209
DTSTART;TZID=Europe/Zurich:20160811T121500
DTEND;TZID=Europe/Zurich:20160811T133000
LOCATION:Seehotel Waldstätterhof Brunnen
CATEGORIES:Rotary
END:VEVENT
BEGIN:VTIMEZONE
TZID:Europe/Zurich
BEGIN:DAYLIGHT
DTSTART:20160811T121500
TZNAME:CEST
TZOFFSETTO:+0200
TZOFFSETFROM:+0200
END:DAYLIGHT
END:VTIMEZONE
END:VCALENDAR
