BEGIN:VCALENDAR
PRODID:-//eluceo/ical//2.0/EN
VERSION:2.0
CALSCALE:GREGORIAN
BEGIN:VEVENT
UID:debb0b413d0b218824ae73cfb4cf88ee
DTSTAMP:20260419T132418Z
SUMMARY:Partneranlass – Gemüsegärtnerei Zurmühle
DESCRIPTION:\n\n\nProgramm\n \n\n\nDatum:\nDonnerstag\, 4. August 2016\n\n
 \nOrt:\n17.45 Uhr\, Betriebsbesichtigung\nZurmühle Gemüse\, Zinnenstr. 4
 \, 6353 Hertenstein\nTel. 041 390 28 59\nAnfahrt: www.zurmuehle-gemuese.ch
 /kontakt.html\n\n\nNachtessen:\n19.30 Uhr\, See & Wellnesshotel Gerbi\, He
 rtensteinstr. 48\, 6353 Weggis\nwww.alexander-gerbi.ch\n\n\nAnmeldung:\nAn
 meldung bis Sonntag\, 31. 7. 2016\, an:\ncorinna.strickler@sparkasse.ch\nF
 ax 041 819 02 51 oder\nCorinna Strickler\, Sparkasse\, Postfach\, 6431 Sch
 wyz\n\n\n\nVefsíða: http://www.zurmuehle-gemuese.ch\nFyrirlesari(ar): Ro
 t. Thomas Zurmühle: Betriebsbesichtigung der Gemüsegärtnerei Zurmühle 
  – Herausforderung Umstellung IP zu Bio\, NE Hotel Gerbi\, Weggis
URL:https://rotary-schwyz-mythen.ch/is/agenda/show/63208
DTSTART;TZID=Europe/Zurich:20160804T174500
DTEND;TZID=Europe/Zurich:20160804T220000
LOCATION:Betrieb Thom Zurmühle – Hotel Gerbi Weggis
CATEGORIES:Rotary
END:VEVENT
BEGIN:VTIMEZONE
TZID:Europe/Zurich
BEGIN:DAYLIGHT
DTSTART:20160804T174500
TZNAME:CEST
TZOFFSETTO:+0200
TZOFFSETFROM:+0200
END:DAYLIGHT
END:VTIMEZONE
END:VCALENDAR
