BEGIN:VCALENDAR
PRODID:-//eluceo/ical//2.0/EN
VERSION:2.0
CALSCALE:GREGORIAN
BEGIN:VEVENT
UID:f122906cff96cb82b46c3da3c1a7736b
DTSTAMP:20260419T133955Z
SUMMARY:Clubversammlung
DESCRIPTION:Vefsíða: http://www.waldstaetterhof.ch/\nFyrirlesari(ar): Bud
 get und Programm
URL:https://rotary-schwyz-mythen.ch/is/agenda/show/63203
DTSTART;TZID=Europe/Zurich:20160707T121500
DTEND;TZID=Europe/Zurich:20160707T133000
LOCATION:Seehotel Waldstätterhof Brunnen
CATEGORIES:Rotary
END:VEVENT
BEGIN:VTIMEZONE
TZID:Europe/Zurich
BEGIN:DAYLIGHT
DTSTART:20160707T121500
TZNAME:CEST
TZOFFSETTO:+0200
TZOFFSETFROM:+0200
END:DAYLIGHT
END:VTIMEZONE
END:VCALENDAR
