BEGIN:VCALENDAR
PRODID:-//eluceo/ical//2.0/EN
VERSION:2.0
CALSCALE:GREGORIAN
BEGIN:VEVENT
UID:e21480c71ea6ca3022941c80ec650bcb
DTSTAMP:20260419T134347Z
SUMMARY:Plauderlunch
DESCRIPTION:Vefsíða: http://www.waldstaetterhof.ch/
URL:https://rotary-schwyz-mythen.ch/is/agenda/show/61567
DTSTART;TZID=Europe/Zurich:20160623T121500
DTEND;TZID=Europe/Zurich:20160623T133000
LOCATION:Seehotel Waldstätterhof Brunnen
CATEGORIES:Rotary
END:VEVENT
BEGIN:VTIMEZONE
TZID:Europe/Zurich
BEGIN:DAYLIGHT
DTSTART:20160623T121500
TZNAME:CEST
TZOFFSETTO:+0200
TZOFFSETFROM:+0200
END:DAYLIGHT
END:VTIMEZONE
END:VCALENDAR
