BEGIN:VCALENDAR
PRODID:-//eluceo/ical//2.0/EN
VERSION:2.0
CALSCALE:GREGORIAN
BEGIN:VEVENT
UID:e5c90302b7167b4d6c1f295fa98aec0d
DTSTAMP:20260425T131354Z
SUMMARY:Aktuelles von der Ausgleichskasse und IV-Stelle Schwyz
DESCRIPTION:Vefsíða: http://www.aksz.ch/dynamic/page_home.asp?seiid=4\nFy
 rirlesari(ar): Andreas Dummermuth - Geschäftsstellenleiter
URL:https://rotary-schwyz-mythen.ch/is/agenda/show/60004
DTSTART;TZID=Europe/Zurich:20160324T121500
DTEND;TZID=Europe/Zurich:20160324T133000
LOCATION:Wysses Rössli\, Schwyz
CATEGORIES:Rotary
END:VEVENT
BEGIN:VTIMEZONE
TZID:Europe/Zurich
BEGIN:STANDARD
DTSTART:20160324T121500
TZNAME:CET
TZOFFSETTO:+0100
TZOFFSETFROM:+0100
END:STANDARD
END:VTIMEZONE
END:VCALENDAR
