BEGIN:VCALENDAR
PRODID:-//eluceo/ical//2.0/EN
VERSION:2.0
CALSCALE:GREGORIAN
BEGIN:VEVENT
UID:4bf47896318dbec50d5b8e09f7309823
DTSTAMP:20260425T125914Z
SUMMARY:Plauderlunch - Schmutziger Donnerstag
DESCRIPTION:Vefsíða: http://www.wrsz.ch
URL:https://rotary-schwyz-mythen.ch/is/agenda/show/58184
DTSTART;TZID=Europe/Zurich:20160204T121500
DTEND;TZID=Europe/Zurich:20160204T133000
LOCATION:Wysses Rössli\, Schwyz
CATEGORIES:Rotary
END:VEVENT
BEGIN:VTIMEZONE
TZID:Europe/Zurich
BEGIN:STANDARD
DTSTART:20160204T121500
TZNAME:CET
TZOFFSETTO:+0100
TZOFFSETFROM:+0100
END:STANDARD
END:VTIMEZONE
END:VCALENDAR
