BEGIN:VCALENDAR
PRODID:-//eluceo/ical//2.0/EN
VERSION:2.0
CALSCALE:GREGORIAN
BEGIN:VEVENT
UID:7ae35d87cc0d48dc9d579ceb6c85e02a
DTSTAMP:20260419T133553Z
SUMMARY:Kein Meeting - Heilig Abend
DESCRIPTION:
URL:https://rotary-schwyz-mythen.ch/is/agenda/show/56381
DTSTART;TZID=Europe/Zurich:20151224T000000
DTEND;TZID=Europe/Zurich:20151224T000000
LOCATION:-
CATEGORIES:Rotary
END:VEVENT
BEGIN:VTIMEZONE
TZID:Europe/Zurich
BEGIN:STANDARD
DTSTART:20151224T000000
TZNAME:CET
TZOFFSETTO:+0100
TZOFFSETFROM:+0100
END:STANDARD
END:VTIMEZONE
END:VCALENDAR
