BEGIN:VCALENDAR
PRODID:-//eluceo/ical//2.0/EN
VERSION:2.0
CALSCALE:GREGORIAN
BEGIN:VEVENT
UID:fe08d9246730c84c96fcc15075bebc1c
DTSTAMP:20260421T111405Z
SUMMARY:AGRO Energie Baptist Reichmuth
DESCRIPTION:Fyrirlesari(ar): B. Reichmuth
URL:https://rotary-schwyz-mythen.ch/is/agenda/show/26163
DTSTART;TZID=Europe/Zurich:20120927T121500
DTEND;TZID=Europe/Zurich:20120927T121500
LOCATION:Hotel Wysses Rössli\, Schwyz
CATEGORIES:Rotary
END:VEVENT
BEGIN:VTIMEZONE
TZID:Europe/Zurich
BEGIN:DAYLIGHT
DTSTART:20120927T121500
TZNAME:CEST
TZOFFSETTO:+0200
TZOFFSETFROM:+0200
END:DAYLIGHT
END:VTIMEZONE
END:VCALENDAR
