BEGIN:VCALENDAR
PRODID:-//eluceo/ical//2.0/EN
VERSION:2.0
CALSCALE:GREGORIAN
BEGIN:VEVENT
UID:27828b806ae03a115d7295495c715f04
DTSTAMP:20260424T164909Z
SUMMARY:Die neue Axenstrasse – Stand der Planung
DESCRIPTION:12.15 Uhr\, Seehotel Waldstätterhof Brunnen\nSitio web: http:/
 /www.axen.ch\nOrador(es): Emil Woodtli\, dipl. Bauing. ETH/SIA\, Gesamtpro
 jektleiter
URL:https://rotary-schwyz-mythen.ch/es/agenda/show/39017
DTSTART;TZID=Europe/Zurich:20140424T121500
DTEND;TZID=Europe/Zurich:20140424T121500
LOCATION:Seehotel Waldstätterhof Brunnen
CATEGORIES:Rotary
END:VEVENT
BEGIN:VTIMEZONE
TZID:Europe/Zurich
BEGIN:DAYLIGHT
DTSTART:20140424T121500
TZNAME:CEST
TZOFFSETTO:+0200
TZOFFSETFROM:+0200
END:DAYLIGHT
END:VTIMEZONE
END:VCALENDAR
