BEGIN:VCALENDAR
PRODID:-//eluceo/ical//2.0/EN
VERSION:2.0
CALSCALE:GREGORIAN
BEGIN:VEVENT
UID:c9544cf695d7e40251b411e35bfcff14
DTSTAMP:20260424T013354Z
SUMMARY:Abendapéro
DESCRIPTION:
URL:https://rotary-schwyz-mythen.ch/es/agenda/show/26165
DTSTART;TZID=Europe/Zurich:20121011T183000
DTEND;TZID=Europe/Zurich:20121011T183000
LOCATION:Hotel Wysses Rössli\, Schwyz
CATEGORIES:Rotary
END:VEVENT
BEGIN:VTIMEZONE
TZID:Europe/Zurich
BEGIN:DAYLIGHT
DTSTART:20121011T183000
TZNAME:CEST
TZOFFSETTO:+0200
TZOFFSETFROM:+0200
END:DAYLIGHT
END:VTIMEZONE
END:VCALENDAR
