BEGIN:VCALENDAR
PRODID:-//eluceo/ical//2.0/EN
VERSION:2.0
CALSCALE:GREGORIAN
BEGIN:VEVENT
UID:e2e25b9e191c856b53f671b546174715
DTSTAMP:20260423T235802Z
SUMMARY:Sessionsbericht Rot.  Alois Gmür
DESCRIPTION:Orador(es): Rot. Alois Gmür\, Nationalrat
URL:https://rotary-schwyz-mythen.ch/es/agenda/show/26164
DTSTART;TZID=Europe/Zurich:20121004T121500
DTEND;TZID=Europe/Zurich:20121004T121500
LOCATION:Wysses Rössli Schwyz
CATEGORIES:Rotary
END:VEVENT
BEGIN:VTIMEZONE
TZID:Europe/Zurich
BEGIN:DAYLIGHT
DTSTART:20121004T121500
TZNAME:CEST
TZOFFSETTO:+0200
TZOFFSETFROM:+0200
END:DAYLIGHT
END:VTIMEZONE
END:VCALENDAR
