BEGIN:VCALENDAR
PRODID:-//eluceo/ical//2.0/EN
VERSION:2.0
CALSCALE:GREGORIAN
BEGIN:VEVENT
UID:e5a84e897ab6d4041bad6ea66e094fcf
DTSTAMP:20260423T235252Z
SUMMARY:Gedenklunch zu Ehren von Rot. Hansjörg Grotzer und Rot. Martin Bet
 schart
DESCRIPTION:Anstelle des Plauderlunchs ein Gedenklunch zu Ehren von Hansjö
 rg Grotzer und Martin Betschart stattfindet. Mit der Anwesenheit von Doris
  Grotzer (Elisabeth Betschart ist leider ferienabwesend) bietet sich dem E
 inen oder Anderen die Gelegenheit persönliche Worte auszutauschen.
URL:https://rotary-schwyz-mythen.ch/es/agenda/show/26162
DTSTART;TZID=Europe/Zurich:20120920T121500
DTEND;TZID=Europe/Zurich:20120920T121500
LOCATION:Seehotel Waldstätterhof Brunnen
CATEGORIES:Rotary
END:VEVENT
BEGIN:VTIMEZONE
TZID:Europe/Zurich
BEGIN:DAYLIGHT
DTSTART:20120920T121500
TZNAME:CEST
TZOFFSETTO:+0200
TZOFFSETFROM:+0200
END:DAYLIGHT
END:VTIMEZONE
END:VCALENDAR
