BEGIN:VCALENDAR
PRODID:-//eluceo/ical//2.0/EN
VERSION:2.0
CALSCALE:GREGORIAN
BEGIN:VEVENT
UID:19db020523c5050d1ca942d6a64021f5
DTSTAMP:20260424T013851Z
SUMMARY:Partneranlass: Besuch der Wilhelm Schmidlin AG
DESCRIPTION:17.30 Uhr\nEintreffen in der Ausstellung der Wilhelm Schmidlin 
 AG\, Badewannenfabrik www.schmidlin.ch\nGotthardstrasse 51\, Oberarth (Bes
 ucherparkplatz vorhanden)\nReferat „Toyota-System“ von Beat Wullschleg
 er\n\n18.15 Uhr\nBesichtigung Betrieb in zwei Gruppen mit Urs und Beat Wul
 lschleger\n\n19.30 Uhr\nNachtessen im Besucherzentrum „Alte Urschwyzer\n
 Brennerei FASSBIND“ Oberarth www.fassbind.ch\n\nAnmeldung\n\nbis Freitag
 \, 8. September 2012 an\nAdy Riedweg: ady@riedweg-kopiercenter.ch\, Fax: 0
 41 817 70 71\nRiedweg GmbH Kopiercenter\, Ady Riedweg\, Postfach 456\, 643
 1 Schwyz\noder per Internet (vorher einloggen).\n \nOrador(es): Beat Wull
 schleger\, Mitinhaber
URL:https://rotary-schwyz-mythen.ch/es/agenda/show/25354
DTSTART;TZID=Europe/Zurich:20120913T173000
DTEND;TZID=Europe/Zurich:20120913T173000
LOCATION:Wilhelm Schmidlin AG – Badewannenfabrik\, Gotthardstr. 51\, 6414
  Oberarth
CATEGORIES:Rotary
END:VEVENT
BEGIN:VTIMEZONE
TZID:Europe/Zurich
BEGIN:DAYLIGHT
DTSTART:20120913T173000
TZNAME:CEST
TZOFFSETTO:+0200
TZOFFSETFROM:+0200
END:DAYLIGHT
END:VTIMEZONE
END:VCALENDAR
