BEGIN:VCALENDAR
PRODID:-//eluceo/ical//2.0/EN
VERSION:2.0
CALSCALE:GREGORIAN
BEGIN:VEVENT
UID:9ac61f49ce18e2481ee51bb9880b0f5f
DTSTAMP:20260420T090909Z
SUMMARY:Reise ICC Schweiz-Rumänien/Moldawien
DESCRIPTION:Orador(es): 
URL:https://polaris.rotary.ch/es/agenda/show/199878
DTSTART;TZID=Europe/Zurich:20260424T090000
DTEND;TZID=Europe/Zurich:20260502T190000
LOCATION:Bukowina
CATEGORIES:Rotary
END:VEVENT
BEGIN:VTIMEZONE
TZID:Europe/Zurich
BEGIN:DAYLIGHT
DTSTART:20260424T090000
TZNAME:CEST
TZOFFSETTO:+0200
TZOFFSETFROM:+0200
END:DAYLIGHT
END:VTIMEZONE
END:VCALENDAR
